BEGIN:VCALENDAR
VERSION:2.0
PRODID:-//ChamberMaster//Event Calendar 2.0//EN
METHOD:PUBLISH
X-PUBLISHED-TTL:P3D
REFRESH-INTERVAL:P3D
CALSCALE:GREGORIAN
BEGIN:VEVENT
DTSTART:20161112T130000Z
DTEND:20161112T170000Z
X-MICROSOFT-CDO-ALLDAYEVENT:FALSE
SUMMARY:Canal Winchester Veterans' March and Ceremony
DESCRIPTION:Veterans March & Ceremony\, 10:00 A.M.  \n\nA Veterans March will begin at Frances Steube Community Center's 22 S. Trine St. entrance and continue onto East Waterloo between Trine and High Street\, turning at S. High Street to end at Stradley Place. \n\n\n\nA ceremony at Stradley Place (located next to Canal Winchester Municipal Office Building at 36 S. High Street in downtown Canal Winchester) will be held immediately following the veterans march.  The ceremony will include remarks from Warren Motts of Motts Military Museum\, Mayor Michael Ebert\, and keynote speaker Bobbie Mershon.  Other highlights will include a special performance of our National Anthem by Mike Walker\, a 21 Gun Salute\, and the playing of Taps. \n\n\n\nNovember 12 veterans celebration will also feature a free pancake breakfast for veterans and their families\, including widows and widowers\, at the Frances Steube Community Center from 8:00 a.m. to 10:00 a.m
X-ALT-DESC;FMTTYPE=text/html:<strong><u>Veterans March &amp\; Ceremony\, 10:00 A.M.</u></strong> &nbsp\;<br />\nA Veterans March will begin at Frances Steube Community Center&rsquo\;s 22 S. Trine St. entrance and continue onto East Waterloo between Trine and High Street\, turning at S. High Street to end at Stradley Place.&nbsp\;<br />\n<br />\n<strong><em>A ceremony at Stradley Place (located next to Canal Winchester Municipal Office Building at 36 S. High Street in downtown Canal Winchester) will be held immediately following the veterans march</em></strong>.&nbsp\; The ceremony will include remarks from Warren Motts of Motts Military Museum\, Mayor Michael Ebert\, and keynote speaker Bobbie Mershon.&nbsp\; Other highlights will include a special performance of our National Anthem by Mike Walker\, a 21 Gun Salute\, and the playing of Taps.&nbsp\;<br />\n<br />\nNovember 12 veterans celebration will also feature a <strong>free pancake breakfast</strong> for veterans and their families\, including widows and widowers\, at the Frances Steube Community Center from 8:00 a.m. to 10:00 a.m
LOCATION:Free pancake breakfast for veterans and their families will be held at the Frances Steube Community Center from 8:00 am to 10:00 am followed by the march that will begin at the Community Center and end at Stradley Place.
UID:e.9051.4020
SEQUENCE:3
DTSTAMP:20260421T114153Z
URL:https://business.destinationcw.org/events/details/canal-winchester-veterans-march-and-ceremony-4020
END:VEVENT

END:VCALENDAR
