BEGIN:VCALENDAR
VERSION:2.0
PRODID:-//ChamberMaster//Event Calendar 2.0//EN
METHOD:PUBLISH
X-PUBLISHED-TTL:P3D
REFRESH-INTERVAL:P3D
CALSCALE:GREGORIAN
BEGIN:VEVENT
DTSTART:20171031T213000Z
DTEND:20171031T233000Z
X-MICROSOFT-CDO-ALLDAYEVENT:FALSE
SUMMARY:Canal Winchester Trick or Treat
DESCRIPTION:City of Canal Winchester Trick or Treat
X-ALT-DESC;FMTTYPE=text/html:City of Canal Winchester Trick or Treat
LOCATION:
UID:e.9051.4229
SEQUENCE:3
DTSTAMP:20260422T050959Z
URL:https://business.destinationcw.org/events/details/canal-winchester-trick-or-treat-4229
END:VEVENT

END:VCALENDAR
