BEGIN:VCALENDAR
VERSION:2.0
PRODID:-//ChamberMaster//Event Calendar 2.0//EN
METHOD:PUBLISH
X-PUBLISHED-TTL:P3D
REFRESH-INTERVAL:P3D
CALSCALE:GREGORIAN
BEGIN:VEVENT
DTSTART:20210411T150000Z
DTEND:20210411T200000Z
X-MICROSOFT-CDO-ALLDAYEVENT:FALSE
SUMMARY:Canal Winchester Shopping District Warehouse Sale
DESCRIPTION:Canal Winchester Shopping District Warehouse Sale\n\n \n\n\n	Saturday\, April 10th from 10 to 3 pm and Sunday\, April 11th from 11 to 4 pm - Many of our downtown shops will be hosting a Canal Winchester Shopping District Warehouse Sale at 30 Liberty St.\, Canal Winchester. Cash and carry decor\, clothing\, accessories\, furniture\, props and a food and beverage truck all make for a great shopping experience.
X-ALT-DESC;FMTTYPE=text/html:<div>&nbsp\;</div>\n\n<div><font color="#403f42" face="Arial\, Verdana\, Helvetica\, sans-serif"><span style="font-size: 12px\;">Canal Winchester Shopping District Warehouse Sale</span></font></div>\n\n<div>&nbsp\;</div>\n\n<ul style="padding: 0px\; margin: 0px 0px 0px 40px\; color: rgb(64\, 63\, 66)\; font-family: Arial\, Verdana\, Helvetica\, sans-serif\; font-size: 12px\; background-color: rgb(255\, 255\, 255)\;">\n	<li style="padding: 0px\; margin: 0px\; line-height: 1.2\;"><span style="font-weight: bold\;">Saturday\, April 10th from 10 to 3 pm and Sunday\, April 11th from 11 to 4 pm&nbsp\;</span>- Many of our downtown shops will be hosting a<span style="font-weight: bold\;">&nbsp\;Canal Winchester Shopping District Warehouse Sale&nbsp\;</span>at 30 Liberty St.\, Canal Winchester. Cash and carry decor\, clothing\, accessories\, furniture\, props and a food and beverage truck all make for a great shopping experience.</li>\n</ul>\n
LOCATION:30 West Liberty Street\, Canal Winchester\, Ohio
UID:e.9051.10111
SEQUENCE:3
DTSTAMP:20260421T132813Z
URL:https://business.destinationcw.org/events/details/canal-winchester-shopping-district-warehouse-sale-10111
END:VEVENT

END:VCALENDAR
