BEGIN:VCALENDAR
VERSION:2.0
PRODID:-//ChamberMaster//Event Calendar 2.0//EN
METHOD:PUBLISH
X-PUBLISHED-TTL:P3D
REFRESH-INTERVAL:P3D
CALSCALE:GREGORIAN
BEGIN:VEVENT
DTSTART:20201023T123000Z
DTEND:20201101T035500Z
X-MICROSOFT-CDO-ALLDAYEVENT:FALSE
SUMMARY:Canal Winchester's Chamber of Commerce - 3rd Annual Running Scared
DESCRIPTION:Enjoy the fall season by joining the Canal Winchester Chamber for the 4th Annual Running Scared 5K and 1-Mile Family Run/Walk.\n\nGrab your costumes and get moving for the best event of the season. We'll have an awesome long-sleeve shirt\, race bib\, and medal for all registrants in both events. This year it's a virtual event open from Oct 23-31st. Download the playlist\, watch our stretch and warm-up video\, and pick your favorite route. Upload your times and compare to other racers.\n\nWe are awarding prizes to the best costumes again\, so snap a pic and upload it to https://www.facebook.com/RunningScared5k \n\nNote: We've provided our normal race route for your reference\, but you can also run/walk your own 5k or 1M path.\n\nFor additional information\, go to:\n\nhttps://runsignup.com/Race/Events/OH/CanalWinchester/RunScared5K
X-ALT-DESC;FMTTYPE=text/html:<p style="color: rgb(16\, 99\, 134)\; font-size: 1.2rem\; padding: 0px\; margin: 0px 0px 10px\; line-height: 1.8rem\; font-family: Roboto\, &quot\;Helvetica Neue&quot\;\, Helvetica\, sans-serif\;"><span style="font-size:14px\;"><span style="font-family:arial\;">Enjoy the fall season by joining the Canal Winchester Chamber for the 4th Annual Running Scared 5K and 1-Mile Family Run/Walk.</span></span></p>\n\n<p style="color: rgb(16\, 99\, 134)\; font-size: 1.2rem\; padding: 0px\; margin: 0px 0px 10px\; line-height: 1.8rem\; font-family: Roboto\, &quot\;Helvetica Neue&quot\;\, Helvetica\, sans-serif\;"><span style="font-size:14px\;"><span style="font-family:arial\;">Grab your costumes and get moving for the best event of the season. We&#39\;ll have an awesome long-sleeve shirt\, race bib\, and medal for all registrants in both events. This year it&#39\;s a virtual event open from Oct 23-31st.&nbsp\;<a href="http://bit.ly/runningscaredplaylist" rel="nofollow noopener noreferrer" style="background-color: transparent\; color: rgb(183\, 95\, 1)\; text-decoration-line: none\;" target="_blank">Download the playlist</a>\,&nbsp\;<a href="https://www.facebook.com/296204897066497/posts/3520133841340237/?vh=e&amp\;extid=0&amp\;d=n" rel="nofollow noopener noreferrer" style="background-color: transparent\; color: rgb(183\, 95\, 1)\; text-decoration-line: none\;" target="_blank">watch our stretch and warm-up video</a>\, and pick your favorite route.&nbsp\;<a href="https://runsignup.com/Race/RunScared5K/Page-3" rel="nofollow noopener noreferrer" style="background-color: transparent\; color: rgb(183\, 95\, 1)\; text-decoration-line: none\;" target="_blank">Upload your times</a>&nbsp\;and compare to other racers.</span></span></p>\n\n<p style="color: rgb(16\, 99\, 134)\; font-size: 1.2rem\; padding: 0px\; margin: 0px 0px 10px\; line-height: 1.8rem\; font-family: Roboto\, &quot\;Helvetica Neue&quot\;\, Helvetica\, sans-serif\;"><span style="font-size:14px\;"><span style="font-family:arial\;">We are awarding prizes to the best costumes again\, so snap a pic and upload it to&nbsp\;<a href="https://www.facebook.com/RunningScared5k" rel="nofollow noopener noreferrer" style="background-color: transparent\; color: rgb(183\, 95\, 1)\; text-decoration-line: none\;" target="_blank">https://www.facebook.com/RunningScared5k</a>&nbsp\;</span></span></p>\n\n<p style="color: rgb(16\, 99\, 134)\; font-size: 1.2rem\; padding: 0px\; margin: 0px 0px 10px\; line-height: 1.8rem\; font-family: Roboto\, &quot\;Helvetica Neue&quot\;\, Helvetica\, sans-serif\;"><span style="font-size:14px\;"><span style="font-family:arial\;">Note: We&#39\;ve provided our normal race route for your reference\, but you can also run/walk your own 5k or 1M path.<br />\nFor additional information\, go to:</span></span><br />\nhttps://runsignup.com/Race/Events/OH/CanalWinchester/RunScared5K</p>\n
LOCATION:Virtual event
UID:e.9051.9609
SEQUENCE:3
DTSTAMP:20260421T225700Z
URL:https://business.destinationcw.org/events/details/canal-winchester-s-chamber-of-commerce-3rd-annual-running-scared-9609
END:VEVENT

END:VCALENDAR
