BEGIN:VCALENDAR
VERSION:2.0
PRODID:-//ChamberMaster//Event Calendar 2.0//EN
METHOD:PUBLISH
X-PUBLISHED-TTL:P3D
REFRESH-INTERVAL:P3D
CALSCALE:GREGORIAN
BEGIN:VEVENT
DTSTART:20180110T163000Z
DTEND:20180110T180000Z
X-MICROSOFT-CDO-ALLDAYEVENT:FALSE
SUMMARY:Canal Winchester Monthly Chamber Luncheon
DESCRIPTION:Speaker: City of Canal Winchester's Developmental Director Lucas Haire\n\n\n\nWe will also be swearing in our newest Board members\, Terry White and Craig Nelson\, at this month's luncheon! RSVP requested\n\n\n\n Sponsor: Wild Birds Unlimited
X-ALT-DESC;FMTTYPE=text/html:<span style="font-size: 12px\;"><span style="font-family: tahoma\;"><span style="color: rgb(0\, 0\, 0)\;"><b>Speaker: City of Canal Winchester&#39\;s Developmental Director Lucas Haire<br />\n<br />\nWe will also be swearing in our newest Board members\, Terry White and Craig Nelson\, at this month&#39\;s luncheon! RSVP requested<br />\n<br />\n&#8203\;Sponsor: Wild Birds Unlimited</b></span></span></span>
LOCATION:Frances Steube Community Center\, 22 S. Trine Street\, Canal Winchester\, Ohio 43110
UID:e.9051.4253
SEQUENCE:3
DTSTAMP:20260422T094853Z
URL:https://business.destinationcw.org/events/details/canal-winchester-monthly-chamber-luncheon-4253
END:VEVENT

END:VCALENDAR
