BEGIN:VCALENDAR
VERSION:2.0
PRODID:-//ChamberMaster//Event Calendar 2.0//EN
METHOD:PUBLISH
X-PUBLISHED-TTL:P3D
REFRESH-INTERVAL:P3D
CALSCALE:GREGORIAN
BEGIN:VEVENT
DTSTART:20161204T190000Z
DTEND:20161204T200000Z
X-MICROSOFT-CDO-ALLDAYEVENT:FALSE
SUMMARY:Canal Winchester Community Holiday Concert
DESCRIPTION:Enjoy beautiful holiday music provided by several local church choirs.  Hosted by Canal Winchester Senior Citizens\, Inc.  Refreshments will be served.  Donations of food or money will benefit Canal Winchester Human Services.
X-ALT-DESC;FMTTYPE=text/html:Enjoy beautiful holiday music provided by several local church choirs.&nbsp\; Hosted by Canal Winchester Senior Citizens\, Inc.&nbsp\; Refreshments will be served.&nbsp\; Donations of food or money will benefit Canal Winchester Human Services.
LOCATION:Oley Speaks Auditorium in the old high school\, 100 Washington Street\, Canal Winchester\, Ohio
UID:e.9051.4026
SEQUENCE:3
DTSTAMP:20260421T132813Z
URL:https://business.destinationcw.org/events/details/canal-winchester-community-holiday-concert-4026
END:VEVENT

END:VCALENDAR
