BEGIN:VCALENDAR
VERSION:2.0
PRODID:-//ChamberMaster//Event Calendar 2.0//EN
METHOD:PUBLISH
X-PUBLISHED-TTL:P3D
REFRESH-INTERVAL:P3D
CALSCALE:GREGORIAN
BEGIN:VEVENT
DTSTART:20181208T223000Z
DTEND:20181209T000000Z
X-MICROSOFT-CDO-ALLDAYEVENT:FALSE
SUMMARY:Canal Winchester Christmas in the Village Middle School Vocal Ensemble
DESCRIPTION:Canal Winchester Middle School Vocal Ensemble Christmas Concert directed by Mr. Brady Brennan.  After the concert come to the fellowship hall and decorate a free Christmas cookie for yourself and one for the residents at Winchester Care.
X-ALT-DESC;FMTTYPE=text/html:Canal Winchester Middle School Vocal Ensemble Christmas Concert directed by Mr. Brady Brennan.&nbsp\; After the concert come to the fellowship hall and decorate a free Christmas cookie for yourself and one for the residents at Winchester Care.
LOCATION:Faith United Methodist Church\, 15 W. Columbus Street\, Canal Winchester\, Ohio
UID:e.9051.6409
SEQUENCE:3
DTSTAMP:20260423T030522Z
URL:https://business.destinationcw.org/events/details/canal-winchester-christmas-in-the-village-middle-school-vocal-ensemble-6409
END:VEVENT

END:VCALENDAR
