BEGIN:VCALENDAR
VERSION:2.0
PRODID:-//ChamberMaster//Event Calendar 2.0//EN
METHOD:PUBLISH
X-PUBLISHED-TTL:P3D
REFRESH-INTERVAL:P3D
CALSCALE:GREGORIAN
BEGIN:VEVENT
DTSTART:20181208T140000Z
DTEND:20181208T200000Z
X-MICROSOFT-CDO-ALLDAYEVENT:FALSE
SUMMARY:Canal Winchester Booster's Holiday Craft Show
DESCRIPTION:
X-ALT-DESC;FMTTYPE=text/html:
LOCATION:Canal Winchester High School\, 300 Washington Street\, Canal Winchester\, Ohio
UID:e.9051.6410
SEQUENCE:3
DTSTAMP:20260423T043548Z
URL:https://business.destinationcw.org/events/details/canal-winchester-booster-s-holiday-craft-show-6410
END:VEVENT

END:VCALENDAR
