BEGIN:VCALENDAR
VERSION:2.0
PRODID:-//ChamberMaster//Event Calendar 2.0//EN
METHOD:PUBLISH
X-PUBLISHED-TTL:P3D
REFRESH-INTERVAL:P3D
CALSCALE:GREGORIAN
BEGIN:VEVENT
DTSTART:20210604T110000Z
DTEND:20210604T180000Z
X-MICROSOFT-CDO-ALLDAYEVENT:FALSE
SUMMARY:Canal Winchester Area Historical Society Annual Golf Outing
DESCRIPTION:The Canal Winchester Area Historical Society Annual Golf Outing at Westchester Golf Course.  Registration begins at 7:30 am with shotgun start at 8:30 am.  $65 per person\; $260 per foursome.\n\n\n\nTee gifts\, team prizes\, skill prizes\, hole-in-one prizes\, 50-50 raffle prizes\, skin games\, mulligans.  Lunch included.
X-ALT-DESC;FMTTYPE=text/html:The Canal Winchester Area Historical Society Annual Golf Outing at Westchester Golf Course.&nbsp\; Registration begins at 7:30 am with shotgun start at 8:30 am.&nbsp\; $65 per person\; $260 per foursome.<br />\n<br />\nTee gifts\, team prizes\, skill prizes\, hole-in-one prizes\, 50-50 raffle prizes\, skin games\, mulligans.&nbsp\; Lunch included.
LOCATION:Westchester Golf Course\, 6300 Bent Grass Blvd.\, Canal Winchester\, Ohio 43110.
UID:e.9051.10790
SEQUENCE:3
DTSTAMP:20260421T114310Z
URL:https://business.destinationcw.org/events/details/canal-winchester-area-historical-society-annual-golf-outing-10790
END:VEVENT

END:VCALENDAR
