BEGIN:VCALENDAR
VERSION:2.0
PRODID:-//ChamberMaster//Event Calendar 2.0//EN
METHOD:PUBLISH
X-PUBLISHED-TTL:P3D
REFRESH-INTERVAL:P3D
CALSCALE:GREGORIAN
BEGIN:VEVENT
DTSTART:20170331T223000Z
DTEND:20170401T013000Z
X-MICROSOFT-CDO-ALLDAYEVENT:FALSE
SUMMARY:Canal Winchester Area Chamber of Commerce: Annual Business Excellence Award Dinner
DESCRIPTION:The Canal Winchester Area Chamber of Commerce Annual Awards Dinner will be held at the Old Blue Rooster Event Center.  Pre-dinner festivities start at 6:30.  1920's dress attire is encouraged.  Those interested should contact the chamber to purchase tickets in advance.
X-ALT-DESC;FMTTYPE=text/html:The Canal Winchester Area Chamber of Commerce Annual Awards Dinner will be held at the Old Blue Rooster Event Center.&nbsp\; Pre-dinner festivities start at 6:30.&nbsp\; 1920&#39\;s dress attire is encouraged.&nbsp\; Those interested should contact the chamber to purchase tickets in advance.
LOCATION:Old Blue Rooster Event Center\, 11575 Lithopolis Rd NW\, Lithopolis\, Ohio.
UID:e.9051.4111
SEQUENCE:3
DTSTAMP:20260421T180417Z
URL:https://business.destinationcw.org/events/details/canal-winchester-area-chamber-of-commerce-annual-business-excellence-award-dinner-4111
END:VEVENT

END:VCALENDAR
