BEGIN:VCALENDAR
VERSION:2.0
PRODID:-//ChamberMaster//Event Calendar 2.0//EN
METHOD:PUBLISH
X-PUBLISHED-TTL:P3D
REFRESH-INTERVAL:P3D
CALSCALE:GREGORIAN
BEGIN:VEVENT
DTSTART:20120408T020000Z
DTEND:20120408T023000Z
X-MICROSOFT-CDO-ALLDAYEVENT:FALSE
SUMMARY:C.W. EASTER EGG HUNT
DESCRIPTION:The National Barber Museum in Canal Winchester proudly continues the timeless tradition of the annual children's Easter egg hunt. There will be three age categories and many colored eggs to hunt down!
X-ALT-DESC;FMTTYPE=text/html:The National Barber Museum in Canal Winchester proudly continues the timeless tradition of the annual children&#39\;s Easter egg hunt. There will be three age categories and many colored eggs to hunt down!&nbsp\; 
LOCATION:Assemble at Stradley Place park (across the street from Shade's) in the historic downtown district. The hunt will take place in the grassy area behind the parking area.
UID:e.9051.44
SEQUENCE:3
DTSTAMP:20260421T211728Z
URL:https://business.destinationcw.org/events/details/c-w-easter-egg-hunt-04-07-2012-44
END:VEVENT

END:VCALENDAR
