BEGIN:VCALENDAR
VERSION:2.0
PRODID:-//ChamberMaster//Event Calendar 2.0//EN
METHOD:PUBLISH
X-PUBLISHED-TTL:P3D
REFRESH-INTERVAL:P3D
CALSCALE:GREGORIAN
BEGIN:VEVENT
DTSTART:20210605T003000Z
DTEND:20210605T030000Z
X-MICROSOFT-CDO-ALLDAYEVENT:FALSE
SUMMARY:C 3 Church Free Movie On the Lawn Movie Night
DESCRIPTION:Show up for C3's Movie On The Lawn! Bring your friends + family\, lawn chairs\, blankets\, etc. and watch Raya & the Last Dragon on the lawn at C3 Church.\n\nNOTE: If it rains\, we will move the movie indoors\, in our sanctuary.\n\nPopcorn and snacks will be made available for FREE!\n\nWe will be practicing social distancing guidelines.\n\nThis is a FREE\, Family-friendly event. Lot opens at 8:30pm. Movie starts at 9pm. \nSee Less
X-ALT-DESC;FMTTYPE=text/html:<div class="kvgmc6g5 cxmmr5t8 oygrvhab hcukyx3x c1et5uql" style="overflow-wrap: break-word\; margin: 0px\; font-family: &quot\;Segoe UI Historic&quot\;\, &quot\;Segoe UI&quot\;\, Helvetica\, Arial\, sans-serif\; color: rgb(5\, 5\, 5)\; font-size: 15px\;">Show up for C3&#39\;s Movie On The Lawn! Bring your friends + family\, lawn chairs\, blankets\, etc. and watch <u>Raya &amp\; the Last Dragon</u> on the lawn at C3 Church.</div>\n\n<div class="o9v6fnle cxmmr5t8 oygrvhab hcukyx3x c1et5uql" style="overflow-wrap: break-word\; margin: 0.5em 0px 0px\; font-family: &quot\;Segoe UI Historic&quot\;\, &quot\;Segoe UI&quot\;\, Helvetica\, Arial\, sans-serif\; color: rgb(5\, 5\, 5)\; font-size: 15px\;">NOTE: If it rains\, we will move the movie indoors\, in our sanctuary.</div>\n\n<div class="o9v6fnle cxmmr5t8 oygrvhab hcukyx3x c1et5uql" style="overflow-wrap: break-word\; margin: 0.5em 0px 0px\; font-family: &quot\;Segoe UI Historic&quot\;\, &quot\;Segoe UI&quot\;\, Helvetica\, Arial\, sans-serif\; color: rgb(5\, 5\, 5)\; font-size: 15px\;">Popcorn and snacks will be made available for FREE!</div>\n\n<div class="o9v6fnle cxmmr5t8 oygrvhab hcukyx3x c1et5uql" style="overflow-wrap: break-word\; margin: 0.5em 0px 0px\; font-family: &quot\;Segoe UI Historic&quot\;\, &quot\;Segoe UI&quot\;\, Helvetica\, Arial\, sans-serif\; color: rgb(5\, 5\, 5)\; font-size: 15px\;">We will be practicing social distancing guidelines.</div>\n\n<div class="o9v6fnle cxmmr5t8 oygrvhab hcukyx3x c1et5uql" style="overflow-wrap: break-word\; margin: 0.5em 0px 0px\; font-family: &quot\;Segoe UI Historic&quot\;\, &quot\;Segoe UI&quot\;\, Helvetica\, Arial\, sans-serif\; color: rgb(5\, 5\, 5)\; font-size: 15px\;">This is a FREE\, Family-friendly event. Lot opens at 8:30pm. Movie starts at 9pm.&nbsp\;\n<div class="oajrlxb2 g5ia77u1 qu0x051f esr5mh6w e9989ue4 r7d6kgcz rq0escxv nhd2j8a9 nc684nl6 p7hjln8o kvgmc6g5 cxmmr5t8 oygrvhab hcukyx3x jb3vyjys rz4wbd8a qt6c0cv9 a8nywdso i1ao9s8h esuyzwwr f1sip0of lzcic4wl oo9gr5id gpro0wi8 lrazzd5p" role="button" style="outline: none\; list-style: none\; border-width: 0px\; border-style: initial\; border-color: initial\; padding: 0px\; margin: 0px\; touch-action: manipulation\; background-color: transparent\; text-align: inherit\; font-weight: 600\; display: inline\; cursor: pointer\; -webkit-tap-highlight-color: transparent\; color: var(--primary-text)\; box-sizing: border-box\; font-family: inherit\;" tabindex="0">See Less</div>\n</div>\n
LOCATION:C 3 Church\, 6350 Waterloo Rd. NW\, Canal Winchester\, Ohio
UID:e.9051.10793
SEQUENCE:3
DTSTAMP:20260421T114420Z
URL:https://business.destinationcw.org/events/details/c-3-church-free-movie-on-the-lawn-movie-night-10793
END:VEVENT

END:VCALENDAR
