BEGIN:VCALENDAR
VERSION:2.0
PRODID:-//ChamberMaster//Event Calendar 2.0//EN
METHOD:PUBLISH
X-PUBLISHED-TTL:P3D
REFRESH-INTERVAL:P3D
CALSCALE:GREGORIAN
BEGIN:VEVENT
DTSTART:20201031T190000Z
DTEND:20201031T230000Z
X-MICROSOFT-CDO-ALLDAYEVENT:FALSE
SUMMARY:Bystone Farms Annual Fall Festival
DESCRIPTION:Blystone Farms Annual Fall Festival \n\nJoin us on :\n\nSaturday\, October 31\n\nfrom 3:00 pm - 7:00 pm\n\nfor some fall family fun.\n\n\nHay Rides | Bounce House | Trick or Treating | Costume Contest | Fall Pictures | Local Vendors | Petting Zoo | and so much more.\n\nBring your family and friends to enjoy a fun filled afternoon and evening at the Farm
X-ALT-DESC;FMTTYPE=text/html:<p style="margin: 1em 0px 0px\; font-family: Helvetica\, Arial\, sans-serif\; color: rgb(102\, 102\, 102)\; font-size: 12px\; background-color: rgb(255\, 255\, 255)\;"><strong>Blystone Farms Annual Fall Festival&nbsp\;<br />\nJoin us on :<br />\nSaturday\, October 31<br />\n<span class="text_exposed_show" style="display: inline\; font-family: inherit\;">from 3:00 pm - 7:00 pm<br />\nfor some fall family fun.</span></strong></p>\n\n<div class="text_exposed_show" style="display: inline\; font-family: Helvetica\, Arial\, sans-serif\; color: rgb(102\, 102\, 102)\; font-size: 12px\; background-color: rgb(255\, 255\, 255)\;">\n<p style="margin: 1em 0px\; font-family: inherit\;"><strong>Hay Rides | Bounce House | Trick or Treating | Costume Contest | Fall Pictures | Local Vendors | Petting Zoo | and so much more.</strong></p>\n\n<p style="margin: 1em 0px 0px\; font-family: inherit\;"><strong>Bring your family and friends to enjoy a fun filled afternoon and evening at the Farm</strong></p>\n</div>\n
LOCATION:Blystone Farms\, 8677 Oregon Rd. \, Canal Winchester\, Ohio 43110
UID:e.9051.9610
SEQUENCE:3
DTSTAMP:20260421T213545Z
URL:https://business.destinationcw.org/events/details/bystone-farms-annual-fall-festival-9610
END:VEVENT

END:VCALENDAR
