BEGIN:VCALENDAR
VERSION:2.0
PRODID:-//ChamberMaster//Event Calendar 2.0//EN
METHOD:PUBLISH
X-PUBLISHED-TTL:P3D
REFRESH-INTERVAL:P3D
CALSCALE:GREGORIAN
BEGIN:VEVENT
DTSTART:20201205T221500Z
DTEND:20201205T233000Z
X-MICROSOFT-CDO-ALLDAYEVENT:FALSE
SUMMARY:Brockstrong Holiday Lights Parade
DESCRIPTION:Brockstrong Holiday Lights Parade will wind its way through Canal Winchester neighborhoods for all to enjoy on Saturday\, December 5th from 5:15 pm to 6:30 pm.  The route is posted on varies Facebook pages to include The Brockstrong Holiday Lights Parade page\, The City of Canal Winchester's page and Destination:Canal Winchester's page as well as the City of Canal Winchester's web site:https://www.canalwinchesterohio.gov/
X-ALT-DESC;FMTTYPE=text/html:<span style="color: rgb(51\, 51\, 51)\; font-family: sans-serif\, Arial\, Verdana\, &quot\;Trebuchet MS&quot\;\; font-size: 13px\; background-color: rgb(255\, 255\, 255)\;">Brockstrong Holiday Lights Parade will wind its way through Canal Winchester neighborhoods for all to enjoy on Saturday\, December 5th from 5:15 pm to 6:30 pm.&nbsp\; The route is posted on varies Facebook pages to include The Brockstrong Holiday Lights Parade page\, The City of Canal Winchester&#39\;s page and Destination:Canal Winchester&#39\;s page as well as the City of Canal Winchester&#39\;s web site:<a href="http://Brockstrong Holiday Lights Parade will wind its way through Canal Winchester neighborhoods for all to enjoy on Saturday\, December 5th from 5:15 pm to 6:30 pm.  The route is posted on varies Facebook pages to include The Brockstrong Holiday Lights Parade page\, The City of Canal Winchester's page and Destination:Canal Winchester's page as well as the City of Canal Winchester's web site:https://www.canalwinchesterohio.gov/">https://www.canalwinchesterohio.gov/&nbsp\;</a></span>
LOCATION:Go to https://www.canalwinchesterohio.gov/ for route information.
UID:e.9051.9623
SEQUENCE:3
DTSTAMP:20260421T195216Z
URL:https://business.destinationcw.org/events/details/brockstrong-holiday-lights-parade-9623
END:VEVENT

END:VCALENDAR
