BEGIN:VCALENDAR
VERSION:2.0
PRODID:-//ChamberMaster//Event Calendar 2.0//EN
METHOD:PUBLISH
X-PUBLISHED-TTL:P3D
REFRESH-INTERVAL:P3D
CALSCALE:GREGORIAN
BEGIN:VEVENT
DTSTART:20210623T170000Z
DTEND:20210623T230000Z
X-MICROSOFT-CDO-ALLDAYEVENT:FALSE
SUMMARY:Brockstrong Blood Drive
DESCRIPTION:The Brockstrong Foundation is hosting a blood drive.  \nBLOOD DONORS NEEDED!!! Is an hour of your time worth saving 3 lives? Donate blood! Easy and literally life saving for up to 3 people!\n\nhttps://www.redcross.org/give-blood.html
X-ALT-DESC;FMTTYPE=text/html:<span style="font-size:14px\;">The Brockstrong Foundation is hosting a blood drive.</span>&nbsp\;&nbsp\;\n<div dir="auto" style="font-family: &quot\;Segoe UI Historic&quot\;\, &quot\;Segoe UI&quot\;\, Helvetica\, Arial\, sans-serif\; color: rgb(5\, 5\, 5)\; font-size: 15px\; white-space: pre-wrap\; background-color: rgb(255\, 255\, 255)\;"><span style="font-size:14px\;"><span style="font-family:arial\;">BLOOD DONORS NEEDED!!! Is an hour of your time worth saving 3 lives? Donate blood! Easy and literally life saving for up to 3 people!</span></span></div>\n\n<div dir="auto" style="font-family: &quot\;Segoe UI Historic&quot\;\, &quot\;Segoe UI&quot\;\, Helvetica\, Arial\, sans-serif\; color: rgb(5\, 5\, 5)\; font-size: 15px\; white-space: pre-wrap\; background-color: rgb(255\, 255\, 255)\;"><span style="font-family: inherit\;"><a class="oajrlxb2 g5ia77u1 qu0x051f esr5mh6w e9989ue4 r7d6kgcz rq0escxv nhd2j8a9 nc684nl6 p7hjln8o kvgmc6g5 cxmmr5t8 oygrvhab hcukyx3x jb3vyjys rz4wbd8a qt6c0cv9 a8nywdso i1ao9s8h esuyzwwr f1sip0of lzcic4wl py34i1dx gpro0wi8" href="https://www.redcross.org/give-blood.html?fbclid=IwAR0FyfYHwdq_x0G1ERlmRBzSNdUHJfTrQY2oEBc66oOYheVqng_uOxKEqEQ" rel="nofollow noopener" role="link" style="cursor: pointer\; text-decoration-line: none\; outline: none\; list-style: none\; border-width: 0px\; border-style: initial\; border-color: initial\; padding: 0px\; margin: 0px\; touch-action: manipulation\; background-color: transparent\; text-align: inherit\; display: inline\; -webkit-tap-highlight-color: transparent\; box-sizing: border-box\; font-family: inherit\;" tabindex="0" target="_blank">https://www.redcross.org/give-blood.html</a></span></div>\n
LOCATION:Canal Winchester Community Center Conference room\, 22 S. Trine Street\, Canal Winchester.
UID:e.9051.10791
SEQUENCE:3
DTSTAMP:20260421T113846Z
URL:https://business.destinationcw.org/events/details/brockstrong-blood-drive-10791
END:VEVENT

END:VCALENDAR
