BEGIN:VCALENDAR
VERSION:2.0
PRODID:-//ChamberMaster//Event Calendar 2.0//EN
METHOD:PUBLISH
X-PUBLISHED-TTL:P3D
REFRESH-INTERVAL:P3D
CALSCALE:GREGORIAN
BEGIN:VEVENT
DTSTART:20180727T210000Z
DTEND:20180728T030000Z
X-MICROSOFT-CDO-ALLDAYEVENT:FALSE
SUMMARY:Blues & Ribfest (2018 - Day 1)
DESCRIPTION:WHAT:  A two day summer street celebration featuring live blues music\, world-class ribs\, a variety of quality non-rib food options\, children's activities\, and a beer garden for our Blues/Rib-loving friends 21 and over.  \n\n \n\nWHEN: Friday\, July 27th and Saturday\, July 28th  (RAIN OR SHINE)\n\n \n\nHOURS: Friday (27th) 5PM -11PM & Saturday (28th) noon-11PM\n\n \n\nWHERE: Historic Downtown Canal Winchester (radiating from closed intersection of High & Waterloo Streets). On/Off-street public parking is available in the areas adjacent to the Ribfest grounds. Handicap tag/sticker parking available at the West Waterloo Street entrance east of Washington Street. \n\n \nAs central Ohio's only all-Blues outdoor festival\, this event draws serious rib and blues aficionados from around the state with attendance estimates in excess of 37\,000 guests served.  It promotes Ohio and regional blues musicians.
X-ALT-DESC;FMTTYPE=text/html:<div><font class="size14 FranklinGothicMedium14" color="#000000" face="'Franklin Gothic Medium'\, sans-serif"><u><b>WHAT:</b></u></font><font class="size14 FranklinGothicMedium14" color="#000000" face="'Franklin Gothic Medium'\, sans-serif">&nbsp\; A two day summer street celebration featuring live blues music\, world-class ribs\, a variety of quality non-rib food options\, children&#39\;s activities\, and a beer garden for our Blues/Rib-loving friends 21 and over.&nbsp\; </font></div>\n\n<div>&nbsp\;</div>\n\n<div><font class="size14 FranklinGothicMedium14" color="#000000" face="'Franklin Gothic Medium'\, sans-serif"><u><b>WHEN:</b></u></font><font class="size14 FranklinGothicMedium14" color="#000000" face="'Franklin Gothic Medium'\, sans-serif">&nbsp\;Friday\, July 27th&nbsp\;and&nbsp\;Saturday\, July 28th &nbsp\;(RAIN OR SHINE)</font></div>\n\n<div>&nbsp\;</div>\n\n<div><font class="size14 FranklinGothicMedium14" color="#000000" face="'Franklin Gothic Medium'\, sans-serif"><u><b>HOURS:</b></u></font><font class="size14 FranklinGothicMedium14" color="#000000" face="'Franklin Gothic Medium'\, sans-serif"> Friday (27th) 5PM -11PM &amp\; Saturday (28th) noon-11PM</font></div>\n\n<div>&nbsp\;</div>\n\n<div><font class="size14 FranklinGothicMedium14" color="#000000" face="'Franklin Gothic Medium'\, sans-serif"><u><b>WHERE:</b></u></font><font class="size14 FranklinGothicMedium14" color="#000000" face="'Franklin Gothic Medium'\, sans-serif"> Historic Downtown Canal Winchester (radiating from closed intersection of High &amp\; Waterloo Streets). On/Off-street public parking is available in the areas adjacent to the Ribfest grounds. Handicap tag/sticker parking available at the West Waterloo Street entrance east of Washington Street.&nbsp\;</font></div>\n\n<div>&nbsp\;</div>\n<font class="size14 FranklinGothicMedium14" color="#000000" face="'Franklin Gothic Medium'\, sans-serif">As central Ohio&#39\;s </font><font class="size14 FranklinGothicMedium14" color="#000000" face="'Franklin Gothic Medium'\, sans-serif"><u>only</u></font><font class="size14 FranklinGothicMedium14" color="#000000" face="'Franklin Gothic Medium'\, sans-serif"> all-Blues outdoor festival\, this event draws serious rib and blues aficionados from around the state with attendance estimates in excess of 37\,000 guests served.&nbsp\; It promotes Ohio and regional blues musicians.&nbsp\; </font>
LOCATION:Downtown Canal Winchester (High & Waterloo Streets)
UID:e.9051.5911
SEQUENCE:3
DTSTAMP:20260422T192958Z
URL:https://business.destinationcw.org/events/details/blues-ribfest-2018-day-1-5911
END:VEVENT

END:VCALENDAR
