BEGIN:VCALENDAR
VERSION:2.0
PRODID:-//ChamberMaster//Event Calendar 2.0//EN
METHOD:PUBLISH
X-PUBLISHED-TTL:P3D
REFRESH-INTERVAL:P3D
CALSCALE:GREGORIAN
BEGIN:VEVENT
DTSTART:20170729T160000Z
DTEND:20170730T030000Z
X-MICROSOFT-CDO-ALLDAYEVENT:FALSE
SUMMARY:Blues & Ribfest (2017 - Day 2)
DESCRIPTION:WHAT:  A two day summer street celebration featuring live blues music\, world-class ribs\, a variety of quality non-rib food options\, children's activities\, and a beer garden for our Blues/Rib-loving friends 21 and over.  \n\n \n\nWHEN: Friday\, July 28th and Saturday\, July 29th  (RAIN OR SHINE)\n\n \n\nHOURS: Friday (28th) 5PM -11PM & Saturday (29th) noon-11PM\n\n \n\nWHERE: Historic Downtown Canal Winchester (radiating from closed intersection of High & Waterloo Streets). On/Off-street public parking is available in the areas adjacent to the Ribfest grounds. Handicap tag/sticker parking available at the West Waterloo Street entrance east of Washington Street. \n\n \nAs central Ohio's only all-Blues outdoor festival\, this event draws serious rib and blues aficionados from around the state with attendance estimates in excess of 32\,000 guests served.  It promotes Ohio and regional blues musicians.
X-ALT-DESC;FMTTYPE=text/html:<div><font class="size14 FranklinGothicMedium14" color="#000000" face="'Franklin Gothic Medium'\, sans-serif"><u><b>WHAT:</b></u></font><font class="size14 FranklinGothicMedium14" color="#000000" face="'Franklin Gothic Medium'\, sans-serif">&nbsp\; A two day summer street celebration featuring live blues music\, world-class ribs\, a variety of quality non-rib food options\, children&#39\;s activities\, and a beer garden for our Blues/Rib-loving friends 21 and over.&nbsp\; </font></div>\n\n<div>&nbsp\;</div>\n\n<div><font class="size14 FranklinGothicMedium14" color="#000000" face="'Franklin Gothic Medium'\, sans-serif"><u><b>WHEN:</b></u></font><font class="size14 FranklinGothicMedium14" color="#000000" face="'Franklin Gothic Medium'\, sans-serif">&nbsp\;Friday\, July 28th&nbsp\;and&nbsp\;Saturday\, July 29th &nbsp\;(RAIN OR SHINE)</font></div>\n\n<div>&nbsp\;</div>\n\n<div><font class="size14 FranklinGothicMedium14" color="#000000" face="'Franklin Gothic Medium'\, sans-serif"><u><b>HOURS:</b></u></font><font class="size14 FranklinGothicMedium14" color="#000000" face="'Franklin Gothic Medium'\, sans-serif"> Friday (28th) 5PM -11PM &amp\; Saturday (29th) noon-11PM</font></div>\n\n<div>&nbsp\;</div>\n\n<div><font class="size14 FranklinGothicMedium14" color="#000000" face="'Franklin Gothic Medium'\, sans-serif"><u><b>WHERE:</b></u></font><font class="size14 FranklinGothicMedium14" color="#000000" face="'Franklin Gothic Medium'\, sans-serif"> Historic Downtown Canal Winchester (radiating from closed intersection of High &amp\; Waterloo Streets). On/Off-street public parking is available in the areas adjacent to the Ribfest grounds. Handicap tag/sticker parking available at the West Waterloo Street entrance east of Washington Street.&nbsp\;</font></div>\n\n<div>&nbsp\;</div>\n<font class="size14 FranklinGothicMedium14" color="#000000" face="'Franklin Gothic Medium'\, sans-serif">As central Ohio&#39\;s </font><font class="size14 FranklinGothicMedium14" color="#000000" face="'Franklin Gothic Medium'\, sans-serif"><u>only</u></font><font class="size14 FranklinGothicMedium14" color="#000000" face="'Franklin Gothic Medium'\, sans-serif"> all-Blues outdoor festival\, this event draws serious rib and blues aficionados from around the state with attendance estimates in excess of 32\,000 guests served.&nbsp\; It promotes Ohio and regional blues musicians.&nbsp\; </font>
LOCATION:Downtown Canal Winchester (High & Waterloo Streets)
UID:e.9051.4186
SEQUENCE:3
DTSTAMP:20260422T000003Z
URL:https://business.destinationcw.org/events/details/blues-ribfest-2017-day-2-4186
END:VEVENT

END:VCALENDAR
