BEGIN:VCALENDAR
VERSION:2.0
PRODID:-//ChamberMaster//Event Calendar 2.0//EN
METHOD:PUBLISH
X-PUBLISHED-TTL:P3D
REFRESH-INTERVAL:P3D
CALSCALE:GREGORIAN
BEGIN:VEVENT
DTSTART:20210604T160000Z
DTEND:20210604T190000Z
X-MICROSOFT-CDO-ALLDAYEVENT:FALSE
SUMMARY:Bingo At the Community Center
DESCRIPTION:Bingo at the Frances Steube Community Center.\n\n \n$2 for 2 cards. Come for prizes\, friends and fun! Please RSVP to attend. A box lunch will be provided by Violet Springs Health Campus of Pickerington!
X-ALT-DESC;FMTTYPE=text/html:<div>Bingo at the Frances Steube Community Center.</div>\n\n<div>&nbsp\;</div>\n$2 for 2 cards. Come for prizes\, friends and fun! Please RSVP to attend. A box lunch will be provided by Violet Springs Health Campus of Pickerington!
LOCATION:Frances Steube Community Center\, 22 S. Trine Street\, Canal Winchester.
UID:e.9051.10569
SEQUENCE:3
DTSTAMP:20260421T113946Z
URL:https://business.destinationcw.org/events/details/bingo-at-the-community-center-10569
END:VEVENT

END:VCALENDAR
