BEGIN:VCALENDAR
VERSION:2.0
PRODID:-//ChamberMaster//Event Calendar 2.0//EN
METHOD:PUBLISH
X-PUBLISHED-TTL:P3D
REFRESH-INTERVAL:P3D
CALSCALE:GREGORIAN
BEGIN:VEVENT
DTSTART:20180315T220000Z
DTEND:20180316T010000Z
X-MICROSOFT-CDO-ALLDAYEVENT:FALSE
SUMMARY:Barefoot McCoy
DESCRIPTION:Live music by Barefoot McCoy
X-ALT-DESC;FMTTYPE=text/html:Live music by Barefoot McCoy
LOCATION:Hidden Lakes Winery\, 650 Winchester Pike\, Canal Winchester\, Ohio 43110
UID:e.9051.5663
SEQUENCE:3
DTSTAMP:20260422T130109Z
URL:https://business.destinationcw.org/events/details/barefoot-mccoy-5663
END:VEVENT

END:VCALENDAR
