BEGIN:VCALENDAR
VERSION:2.0
PRODID:-//ChamberMaster//Event Calendar 2.0//EN
METHOD:PUBLISH
X-PUBLISHED-TTL:P3D
REFRESH-INTERVAL:P3D
CALSCALE:GREGORIAN
BEGIN:VEVENT
DTSTART:20180421T140000Z
DTEND:20180421T153000Z
X-MICROSOFT-CDO-ALLDAYEVENT:FALSE
SUMMARY:Backyard Workshop
DESCRIPTION:Attention local gardeners!  A free backyard conservation workshop is scheduled to be held on April 21st\, Earth Day\, from 10:00 a.m. to 11:30 a.m. at the Frances Steube Community Center (22 S. Trine St.) in Canal Winchester.  The workshop\, offered in partnership with Franklin Soil and Water Conservation District\, is entitled Community Backyards. \n\nParticipants will learn the benefits of rain gardens\, rain barrels and composting. Those who attend the free workshop may also be eligible to receive a $50 rebate voucher (*dependent on homeowners location & while supplies last) on the purchase of an approved rain barrel and/or composter.
X-ALT-DESC;FMTTYPE=text/html:&nbsp\;\n<p>Attention local gardeners! &nbsp\;A free backyard conservation workshop is scheduled to be held on April 21st\, Earth Day\, from 10:00 a.m. to 11:30 a.m. at the Frances Steube Community Center (22 S. Trine St.) in Canal Winchester. &nbsp\;The workshop\, offered in partnership with Franklin Soil and Water Conservation District\, is entitled <em>Community Backyards.&nbsp\;</em></p>\n\n<p>Participants will learn the benefits of rain gardens\, rain barrels and composting. Those who attend the free workshop may also be eligible to receive a $50 rebate voucher (*dependent on homeowners location &amp\; while supplies last) on the purchase of an approved rain barrel and/or composter.</p>\n
LOCATION:Frances Stuebe Community Center\, 22 S. Trine St.\, Canal Winchester\, Ohio
UID:e.9051.5672
SEQUENCE:3
DTSTAMP:20260422T142426Z
URL:https://business.destinationcw.org/events/details/backyard-workshop-5672
END:VEVENT

END:VCALENDAR
