BEGIN:VCALENDAR
VERSION:2.0
PRODID:-//ChamberMaster//Event Calendar 2.0//EN
METHOD:PUBLISH
X-PUBLISHED-TTL:P3D
REFRESH-INTERVAL:P3D
CALSCALE:GREGORIAN
BEGIN:VEVENT
DTSTART:20170513T180000Z
DTEND:20170514T000000Z
X-MICROSOFT-CDO-ALLDAYEVENT:FALSE
SUMMARY:Art Stroll
DESCRIPTION:Sixth annual Art Stroll- Winchester is extremely fortunate to be a hub of artistic talent.  A number of local artists own and operate their studio/galleries in Historic Downtown. The Canal Winchester Art Guild founded in 1998 by local artists is an active organization whose goal is to promote the visual arts throughout the community. \n\n\n\nThis event will showcase the work of local artists. People may visit the artist's actual studios and galleries as well as local businesses who are hosting artists work from the Guild.  Many other artists will also be located in tents in the downtown area.  Visitors can stroll from site to site\, partake of local food venues\, enjoy musical entertainment\, and the ambiance of our historic city.
X-ALT-DESC;FMTTYPE=text/html:<p style="background: white\; margin: 0in 0in 8pt\;"><span style="color: black\; mso-fareast-font-family: &quot\;Times New Roman&quot\;\;"><font face="Calibri" size="3">Sixth annual Art Stroll- Winchester is extremely fortunate to be a hub of artistic talent.&nbsp\; A number of local artists own and operate their studio/galleries in Historic Downtown. The Canal Winchester Art Guild founded in 1998 by local artists is an active organization whose goal is to promote the visual arts throughout the community.&nbsp\;<br />\n<br />\nThis event will showcase the work of local artists. People may visit the artist&#39\;s actual studios and galleries as well as local businesses who are hosting artists work from the Guild.&nbsp\; Many other artists will also be located in tents in the downtown area.&nbsp\; Visitors can stroll from site to site\, partake of local food venues\, enjoy musical entertainment\, and the ambiance of our historic city.&nbsp\; </font></span></p>\n
LOCATION:Various locations in and around Historic Downtown Canal Winchester
UID:e.9051.4112
SEQUENCE:3
DTSTAMP:20260421T205338Z
URL:https://business.destinationcw.org/events/details/art-stroll-4112
END:VEVENT

END:VCALENDAR
