BEGIN:VCALENDAR
VERSION:2.0
PRODID:-//ChamberMaster//Event Calendar 2.0//EN
METHOD:PUBLISH
X-PUBLISHED-TTL:P3D
REFRESH-INTERVAL:P3D
CALSCALE:GREGORIAN
BEGIN:VEVENT
DTSTART:20210515T160000Z
DTEND:20210515T220000Z
X-MICROSOFT-CDO-ALLDAYEVENT:FALSE
SUMMARY:Art on the Canal - Canal Winchester Art Stroll
DESCRIPTION:Historic Downtown Canal Winchester will come alive on May 15th with MUSIC\, DANCING and PERFORMANCES\, along with a variety of exquisite works from Central Ohio artists.\n\nTake in the FREE\, live entertainment while you stroll along the sidewalks of our quaint city. \n\nStop and enjoy some local food\, drinks and shopping - and be sure to visit Canal Winchester's Historical Complex\, which includes the one-room Prentiss School Building and the Hocking Valley "Queen of the Line" railroad depot.
X-ALT-DESC;FMTTYPE=text/html:Historic Downtown Canal Winchester will come alive on May 15th with MUSIC\, DANCING and PERFORMANCES\, along with a variety of exquisite works from Central Ohio artists.<br />\nTake in the FREE\, live entertainment while you stroll along the sidewalks of our quaint city.&nbsp\;<br />\nStop and enjoy some local food\, drinks and shopping - and be sure to visit Canal Winchester&rsquo\;s Historical Complex\, which includes the one-room Prentiss School Building and the Hocking Valley &ldquo\;Queen of the Line&rdquo\; railroad depot.<br />\n&nbsp\;
LOCATION:Historic Downtown Canal Winchester
UID:e.9051.10121
SEQUENCE:3
DTSTAMP:20260421T114251Z
URL:https://business.destinationcw.org/events/details/art-on-the-canal-canal-winchester-art-stroll-10121
END:VEVENT

END:VCALENDAR
