BEGIN:VCALENDAR
VERSION:2.0
PRODID:-//ChamberMaster//Event Calendar 2.0//EN
METHOD:PUBLISH
X-PUBLISHED-TTL:P3D
REFRESH-INTERVAL:P3D
CALSCALE:GREGORIAN
BEGIN:VEVENT
DTSTART:20210515T160000Z
DTEND:20210515T220000Z
X-MICROSOFT-CDO-ALLDAYEVENT:FALSE
SUMMARY:Art on the Canal Art Stroll artist Clff Sprill and Taquitos Food truck
DESCRIPTION:Stop by Loose Rail to see the work of Canal Winchester artist\, guitarist and owner of Glifton Guitarworks. His handcrafted guitars  made from reclaimed wood are amazing.  Taquuitos Food truck will be there too.
X-ALT-DESC;FMTTYPE=text/html:Stop by Loose Rail to see the work of Canal Winchester artist\, guitarist and owner of Glifton Guitarworks. His handcrafted guitars&nbsp\; made from reclaimed wood are amazing.&nbsp\; Taquuitos Food truck will be there too.
LOCATION:Loose Rail Brewing Brewing at 37 W. Waterloo St\, Canal Winchester\, Ohio
UID:e.9051.10119
SEQUENCE:3
DTSTAMP:20260421T114336Z
URL:https://business.destinationcw.org/events/details/art-on-the-canal-art-stroll-artist-clff-sprill-and-taquitos-food-truck-10119
END:VEVENT

END:VCALENDAR
