BEGIN:VCALENDAR
VERSION:2.0
PRODID:-//ChamberMaster//Event Calendar 2.0//EN
METHOD:PUBLISH
X-PUBLISHED-TTL:P3D
REFRESH-INTERVAL:P3D
CALSCALE:GREGORIAN
BEGIN:VEVENT
DTSTART:20171011T220000Z
DTEND:20171012T000000Z
X-MICROSOFT-CDO-ALLDAYEVENT:FALSE
SUMMARY:Annie Sloan Chalk Paint Painting Class
DESCRIPTION:Annie Sloan Chalk Paint Painting Class.  Reservations required.
X-ALT-DESC;FMTTYPE=text/html:Annie Sloan Chalk Paint Painting Class.&nbsp\; Reservations required.
LOCATION:Sticks and Stones Studio\, 4 E. Waterloo St.\, Canal Winchester\, Ohio.
UID:e.9051.4213
SEQUENCE:3
DTSTAMP:20260422T062650Z
URL:https://business.destinationcw.org/events/details/annie-sloan-chalk-paint-painting-class-4213
END:VEVENT

END:VCALENDAR
