BEGIN:VCALENDAR
VERSION:2.0
PRODID:-//ChamberMaster//Event Calendar 2.0//EN
METHOD:PUBLISH
X-PUBLISHED-TTL:P3D
REFRESH-INTERVAL:P3D
CALSCALE:GREGORIAN
BEGIN:VEVENT
DTSTART:20170409T180000Z
DTEND:20170409T210000Z
X-MICROSOFT-CDO-ALLDAYEVENT:FALSE
SUMMARY:Alan Reed
DESCRIPTION:Alan Reed - entertainer
X-ALT-DESC;FMTTYPE=text/html:Alan Reed - entertainer
LOCATION:Hidden Lakes Winery & Distillery\, 650 Winchester Pike\, Canal Winchester\, Ohio
UID:e.9051.4102
SEQUENCE:3
DTSTAMP:20260421T205355Z
URL:https://business.destinationcw.org/events/details/alan-reed-4102
END:VEVENT

END:VCALENDAR
