BEGIN:VCALENDAR
VERSION:2.0
PRODID:-//ChamberMaster//Event Calendar 2.0//EN
METHOD:PUBLISH
X-PUBLISHED-TTL:P3D
REFRESH-INTERVAL:P3D
CALSCALE:GREGORIAN
BEGIN:VEVENT
DTSTART:20201027T153000Z
DTEND:20201027T180000Z
X-MICROSOFT-CDO-ALLDAYEVENT:FALSE
SUMMARY:Ag Day at Blystone Farms
DESCRIPTION:Blystone Agricultural Community at Blystone Farms will be hosting an Ag Day.Joe Blystone will talk about cattle farming and the day to day chores on the farm.
X-ALT-DESC;FMTTYPE=text/html:Blystone Agricultural Community at Blystone Farms will be hosting an Ag Day.<span style="color: rgb(29\, 33\, 41)\; font-family: Helvetica\, Arial\, sans-serif\; font-size: 14px\; white-space: pre-wrap\; background-color: rgb(255\, 255\, 255)\;">Joe Blystone will talk about cattle farming and the day to day chores on the farm.</span><br />\n&nbsp\;
LOCATION:Blystone Farms\, 8677 Oregon Rd\, Canal Winchester\, Ohio 43110
UID:e.9051.9606
SEQUENCE:3
DTSTAMP:20260421T225449Z
URL:https://business.destinationcw.org/events/details/ag-day-at-blystone-farms-9606
END:VEVENT

END:VCALENDAR
