BEGIN:VCALENDAR
VERSION:2.0
PRODID:-//ChamberMaster//Event Calendar 2.0//EN
METHOD:PUBLISH
X-PUBLISHED-TTL:P3D
REFRESH-INTERVAL:P3D
CALSCALE:GREGORIAN
BEGIN:VEVENT
DTSTART:20170326T200000Z
DTEND:20170326T220000Z
X-MICROSOFT-CDO-ALLDAYEVENT:FALSE
SUMMARY:Adam Helbling "Well. . . I Guess I'm not Jesus"
DESCRIPTION:"Well... I Guess I'm Not Jesus" is a true story by Adam Helbling. His story focuses on his struggles with bipolar disorder and a life-altering spinal cord injury. Due to an underlying mental illness\, he battled drug abuse and ultimately ended up in the psych ward believing he was Jesus Christ. Once a championship water skier for The Ohio State University\, an accident put Adam in a wheel chair. Adam will be joining us to share his story.
X-ALT-DESC;FMTTYPE=text/html:&quot\;Well... I Guess I&#39\;m Not Jesus&quot\; is a true story by Adam Helbling. His story focuses on his struggles with bipolar disorder and a life-altering spinal cord injury. Due to an underlying mental illness\, he battled drug abuse and ultimately ended up in the psych ward believing he was Jesus Christ. Once a championship water skier for The Ohio State University\, an accident put Adam in a wheel chair. Adam will be joining us to share his story.
LOCATION:Faith United Methodist Church\, 15 W. Columbus St\, Canal Winchester\, Ohio
UID:e.9051.4094
SEQUENCE:3
DTSTAMP:20260421T193940Z
URL:https://business.destinationcw.org/events/details/adam-helbling-well-i-guess-i-m-not-jesus-4094
END:VEVENT

END:VCALENDAR
