BEGIN:VCALENDAR
VERSION:2.0
PRODID:-//ChamberMaster//Event Calendar 2.0//EN
METHOD:PUBLISH
X-PUBLISHED-TTL:P3D
REFRESH-INTERVAL:P3D
CALSCALE:GREGORIAN
BEGIN:VEVENT
DTSTART:20170609T230000Z
DTEND:20170610T013000Z
X-MICROSOFT-CDO-ALLDAYEVENT:FALSE
SUMMARY:Acoustic Avalanche
DESCRIPTION:Music by Acoustic Avalanche
X-ALT-DESC;FMTTYPE=text/html:Music by Acoustic Avalanche
LOCATION:7 N.High St.\, Canal Winchester\, Ohio
UID:e.9051.4165
SEQUENCE:3
DTSTAMP:20260421T223227Z
URL:https://business.destinationcw.org/events/details/acoustic-avalanche-4165
END:VEVENT

END:VCALENDAR
