BEGIN:VCALENDAR
VERSION:2.0
PRODID:-//ChamberMaster//Event Calendar 2.0//EN
METHOD:PUBLISH
X-PUBLISHED-TTL:P3D
REFRESH-INTERVAL:P3D
CALSCALE:GREGORIAN
BEGIN:VEVENT
DTSTART:20120511T223000Z
DTEND:20120512T003000Z
X-MICROSOFT-CDO-ALLDAYEVENT:FALSE
SUMMARY:9th Annual Daddy/Daughter Sweetheart Dance
DESCRIPTION:Formal Event "Daddy's Girl" \n\nRefreshments\; Prom like picture\; DJ and Dancing\n\n For girls in grades K-8 and their daddy figures (dad\, grandpa\, uncle\, special male\n\n           friend\, etc.) sponsored through Faith United Methodist Church\n\nThis year we will be collecting NEW stuffed toys which will be donated to Nationwide Children's Hospital.\n\nThe proceeds of the dance go to a charityeach year. This year we are stepping it up a little. In addition to donating to the food pantry\, we ask those couples\, who are willing\, to also bring a new stuffed animal to be donated to Children's Hospital. (Note: Children's Hospital policy states that they may only accept stuffed animals with a tag still attached.)Your night-out could help a little girl who doesn't have the chance to go dancing with her father.
X-ALT-DESC;FMTTYPE=text/html:<span style="font-size: 18px\;"><span style="font-family: arial\;"><sub><span style="font-weight: bold\;"><span style="color: rgb(46\, 16\, 224)\;">Formal Event </span></span><span style="font-weight: bold\;"><span style="color: rgb(46\, 16\, 224)\;">&ldquo\;Daddy&rsquo\;s Girl&rdquo\; </span></span></sub><br />\n<span style="color: rgb(0\, 0\, 255)\;"><span>Refreshments\; Prom like picture\; DJ and Dancing</span></span><br />\n<sub> <span><span style="color: black\;">For girls in grades K-8 and their daddy figures (dad\, grandpa\, uncle\, special male<br />\n&nbsp\;&nbsp\;&nbsp\;&nbsp\;&nbsp\;&nbsp\;&nbsp\;&nbsp\;&nbsp\;&nbsp\; friend\, etc.) </span></span>sponsored through Faith United Methodist Church</sub></span></span><br />\n<span style="language:en-US\;font-weight:bold\;"><span style="color:#c00000\;"><span style="font-family:calibri\;"><span style="font-size:12.0pt\;">This year we will be collecting NEW stuffed toys which will be donated to Nationwide Children&rsquo\;s Hospital.</span></span></span></span><br />\n<span style="language:en-US\;"><span style="color:#c00000\;"><span style="font-family:calibri\;"><span style="font-size:12.0pt\;">The proceeds of the dance go to a </span></span></span></span><span style="font-weight: bold\;"><span style="color:#c00000\;"><span style="font-family:calibri\;"><span style="font-size:12.0pt\;">charity</span></span></span></span><span style=""><span style="color: rgb(192\, 0\, 0)\;"><span style="font-family: calibri\;"><span style="font-size: 12pt\;">each</span></span></span></span><span style="language:en-US\;"><span style="color:#c00000\;"><span style="font-family:calibri\;"><span style="font-size:12.0pt\;"> year. This year we are stepping it up a little. In addition to donating to the food pantry\, we ask those couples\, who are willing\, to also bring a new stuffed animal to be donated to </span></span></span></span><span style="language:en-US\;font-weight:bold\;"><span style="color:#c00000\;"><span style="font-family:calibri\;"><span style="font-size:12.0pt\;">Children&#39\;s Hospital. (Note: Children&#39\;s Hospital policy states that they may only accept stuffed animals with a tag still attached.)</span></span></span></span><span style="language:en-US\;"><span style="color:#c00000\;"><span style="font-family:calibri\;"><span style="font-size:12.0pt\;">Your night-out could help a little girl who doesn&#39\;t have the chance to go dancing with her father. </span></span></span></span><br />\n<br />\n<br />\n<span style="language:en-US\;"><span style="color:black\;"><span style="font-family:arial\;"><span style="font-size:12.0pt\;"> </span></span></span></span>
LOCATION:Winchester Trail Elementary School. 6865 Gender Road\, Canal Winchester
UID:e.9051.43
SEQUENCE:3
DTSTAMP:20260421T195537Z
URL:https://business.destinationcw.org/events/details/9th-annual-daddy-daughter-sweetheart-dance-05-11-2012-43
END:VEVENT

END:VCALENDAR
