BEGIN:VCALENDAR
VERSION:2.0
PRODID:-//ChamberMaster//Event Calendar 2.0//EN
METHOD:PUBLISH
X-PUBLISHED-TTL:P3D
REFRESH-INTERVAL:P3D
CALSCALE:GREGORIAN
BEGIN:VEVENT
DTSTART:20120519T130000Z
DTEND:20120519T150000Z
X-MICROSOFT-CDO-ALLDAYEVENT:FALSE
SUMMARY:2nd Annual Fitness Firm in the Park
DESCRIPTION:Outdoor Fitness Challenge Work out to benefit the CW Food Pantry. Bring your "A" game effort to the outside!!! Let's rally in the heart of Canal Winchester\n\nat Guiler Park for a great workout for a great cause. This is the workout\n\nyou've been asking for. We've created a total body workout using all that the\n\npark has to offer. Plenty of good moves\, music\, fun\, and prizes. So bring your\n\nhealthy body and get ready to fist pump your friends in action at the 2nd Annual\n\nFitness Firm in the Park event.
X-ALT-DESC;FMTTYPE=text/html:Outdoor Fitness Challenge Work out to benefit the CW Food Pantry. Bring your &ldquo\;A&rdquo\; game effort to the outside!!! Let&rsquo\;s rally in the heart of Canal Winchester<br />\nat Guiler Park for a great workout for a great cause. This is the workout<br />\nyou&rsquo\;ve been asking for. We&rsquo\;ve created a total body workout using all that the<br />\npark has to offer. Plenty of good moves\, music\, fun\, and prizes. So bring your<br />\nhealthy body and get ready to fist pump your friends in action at the 2nd Annual<br />\nFitness Firm in the Park event.
LOCATION:Guiler Park at Groveport Rd and Washington St
UID:e.9051.52
SEQUENCE:3
DTSTAMP:20260421T195854Z
URL:https://business.destinationcw.org/events/details/2nd-annual-fitness-firm-in-the-park-05-19-2012-52
END:VEVENT

END:VCALENDAR
