BEGIN:VCALENDAR
VERSION:2.0
PRODID:-//ChamberMaster//Event Calendar 2.0//EN
METHOD:PUBLISH
X-PUBLISHED-TTL:P3D
REFRESH-INTERVAL:P3D
CALSCALE:GREGORIAN
BEGIN:VEVENT
DTSTART:20201024T130000Z
DTEND:20201024T190000Z
X-MICROSOFT-CDO-ALLDAYEVENT:FALSE
SUMMARY:2020 Fall Festival
DESCRIPTION:Fall Festival 2020 \n\nCome enjoy the beautiful setting of the Canal Winchester Historical Complex at 100 N. High Street.  This area includes the Prentis one room school house and the Queen of the Line Train Depot.  Both will be open for free tours. \n\nAmong this charming setting will be a variety of vendors selling antiques\, home made soaps\, candles\, and crafts.  We will also have wonderful baked goods for sell and fresh\, local honey and much more.  Come spend an hour or the whole day with us.\n\n\n\n\n\nWe will have artists\, antique dealers\, crafters\, food vendors\, music and more. \n\nCost: Free to attend!
X-ALT-DESC;FMTTYPE=text/html:<span style="font-size:12px\;"><strong><span style="font-size:14px\;">Fall Festival 2020&nbsp\;<br />\nCome enjoy the beautiful setting of the Canal Winchester Historical Complex at 100 N. High Street.&nbsp\; This area includes the Prentis one room school house and the Queen of the Line Train Depot.&nbsp\; Both will be open for free tours.&nbsp\;<br />\nAmong this charming setting will be a variety of vendors selling antiques\, home made soaps\, candles\, and crafts.&nbsp\; We will also have wonderful baked goods for sell and fresh\, local honey and much more.&nbsp\; Come spend an hour or the whole day with us.</span></strong><br />\n<br />\n<br />\nWe will have artists\, antique dealers\, crafters\, food vendors\, music and more.&nbsp\;<br />\nCost: Free to attend!</span>
LOCATION:The Canal Winchester Area Historical Complex\, 100 N. High Street\, Canal Winchester\, Ohio
UID:e.9051.9604
SEQUENCE:3
DTSTAMP:20260421T212611Z
URL:https://business.destinationcw.org/events/details/2020-fall-festival-9604
END:VEVENT

END:VCALENDAR
