BEGIN:VCALENDAR
VERSION:2.0
PRODID:-//ChamberMaster//Event Calendar 2.0//EN
METHOD:PUBLISH
X-PUBLISHED-TTL:P3D
REFRESH-INTERVAL:P3D
CALSCALE:GREGORIAN
BEGIN:VEVENT
DTSTART:20171201T230000Z
DTEND:20171202T020000Z
X-MICROSOFT-CDO-ALLDAYEVENT:FALSE
SUMMARY:2017 Christmas in the Village (Night 1)
DESCRIPTION:Roving carolers\, Santa visits\, horse-drawn carriage rides\, hay rides pulled by antique tractors\, ice sculptures\, kids activities\, & much much more return to kick off the holiday season during Canal Winchester's annual storybook Christmas celebration held in the city's historic downtown on Friday\, Dec. 1st from 6 to 9 pm and Saturday\, Dec. 2nd from 5 to 8 pm.\n\nAttractions\n\n\n\nBoth Nights:\n\n \n\n	Tree Lighting 6:00 p.m. Friday\, 5:00 p.m. Saturday (grassy knoll behind Stradley Place)\n	Visit with Santa (Huntington Bank)  *Look for Canal Winchester Human Services' Adopt-A-Family Toy Box!  Food\, Toy\, or Donation to Adopt-A-Family Program always appreciated!\n	Christmas Trolley (various downtown stops)\n	Cookies & Cardmaking (Faith United Methodist Church - 15 W. Columbus)\n	Children 's Games (Chase Bank)\n	Children's Train Rides (across from Fantasy Cupcake)\n	Hayrides (in front of municipal building)\n	Meet Ginger & Gingy / Gingerbread House Contest (HER Realtors - 11 S. High)\n	Children's Crafts (Town Hall)\n	Pet Pictures with Santa (M. Vasko office- 19 N. High)*$10 donation suggested\n	Meet the Grinch (HER Realtors - 25 N. High)\n	Meet Rudolph the Red-Nosed Reindeer (Rise Realty - 36 N. High)\n	Ice Sculptures (Stradley Place)\n	Popcorn Station (Stradley Place)\n	Christmas Music on S. High Street (courtesy of Councilman Mike Walker)\n	Craft Bazaar (Community Center) *2017 vendor space is filled\n	Train Display (Community Center)\n	Canal Winchester Area Historical Society's Prentiss School and Railroad Depot will be open to visitors each night. (N. High)\n\n\n1-Night Only:\n\n\n\n	*Friday  - Brockstrong Holiday Lights Parade with Santa (Begins at 5:30 p.m. with Santa arriving downtown at 6:00 p.m.) click here for parade route\n	*Friday - Christmas Carols by CWHS Choir  (Stradley Place)\n	*Saturday - Santa Procession (Begins at 4:30 p.m. with Santa arriving downtown at 5:00 p.m.) click here for parade route\n	*Saturday - Winchester Chimes Holiday Performance (Prentiss School and Railroad Depot - N. High)\n	*Saturday - Visit Santa's Reindeer  (grassy knoll behind Stradley Place)\n\n\n\n\n\n\n   \n\nAnyone who would like more information about on how to enter the gingerbread house contest should contact Amanda Lemke at(614) 837-8276.  If you would like more information about the Craft/Gift Expo\, please contact Destination: Canal Winchester info@destinationcw.org or (614) 270-5053.
X-ALT-DESC;FMTTYPE=text/html:<span style="font-size: 14px\;"><span style="font-family: times new roman\;"><font class="size14 Helvetica14" color="#000000">Roving carolers\, Santa visits\, horse-drawn carriage rides\, hay rides pulled by antique tractors\, ice sculptures\, kids activities\, &amp\; much much more return to kick off the holiday season during Canal Winchester&rsquo\;s annual storybook Christmas celebration held in the city&rsquo\;s historic downtown on Friday\,&nbsp\;Dec. 1st from 6 to 9 pm and Saturday\, Dec. 2nd from 5 to 8 pm.</font></span></span><br />\n<strong><span style="color: rgb(154\, 134\, 72)\; font-size: 14pt\;">Attractions</span></strong><br />\n<br />\n<span style="color: rgb(147\, 31\, 32)\;"><strong>Both Nights:</strong></span><br />\n&nbsp\;\n<ul>\n	<li><strong style="color: rgb(80\, 80\, 80)\; font-size: 10pt\;">Tree Lighting</strong><span style="color: rgb(80\, 80\, 80)\;">&nbsp\;<em>6:00 p.m. Friday\, 5:00 p.m. Saturday</em> (grassy knoll behind Stradley Place)</span></li>\n	<li><span style="color: rgb(80\, 80\, 80)\;"><span style="font-size: 10pt\;"><strong>Visit with Santa</strong>&nbsp\;(Huntington Bank) &nbsp\;</span><em style="font-size: 14.08px\;"><span style="font-size: 10pt\;">*Look for Canal Winchester Human Services&#39\; Adopt-A-Family Toy Box! &nbsp\;Food\, Toy\, or Donation to Adopt-A-Family Program always appreciated!</span></em></span></li>\n	<li><span style="color: rgb(80\, 80\, 80)\; font-size: 10pt\;"><strong>Christmas Trolley</strong>&nbsp\;(various downtown stops)</span></li>\n	<li><span style="color: rgb(80\, 80\, 80)\; font-size: 10pt\;"><strong>Cookies &amp\; Cardmaking</strong>&nbsp\;(Faith United Methodist Church - 15 W. Columbus)</span></li>\n	<li><span style="color: rgb(80\, 80\, 80)\; font-size: 10pt\;"><strong>Children<span style="font-size: 10pt\;">&#8203\;</span>&rsquo\;s Games</strong> (Chase Bank)</span></li>\n	<li><span style="color: rgb(80\, 80\, 80)\; font-size: 10pt\;"><strong>Children&#39\;s Train Rides</strong>&nbsp\;(across from Fantasy Cupcake)</span></li>\n	<li><span style="color: rgb(80\, 80\, 80)\; font-size: 10pt\;"><strong>Hayrides</strong>&nbsp\;(in front of municipal building)</span></li>\n	<li><span style="color: rgb(80\, 80\, 80)\; font-size: 10pt\;"><strong>Meet Ginger &amp\; Gingy /&nbsp\;<a class="Hyperlink" href="https://oh-canalwinchester.civicplus.com/FormCenter/Community-Relations-Forms-7/Gingerbread-House-Contest-Entry-2017-71" target="_blank">Gingerbread House Contest</a></strong>&nbsp\;(HER Realtors - 11 S. High)</span></li>\n	<li><span style="color: rgb(80\, 80\, 80)\; font-size: 10pt\;"><strong>Children&rsquo\;s Crafts</strong>&nbsp\;(Town Hall)</span></li>\n	<li><span style="color: rgb(80\, 80\, 80)\; font-size: 10pt\;"><strong>Pet Pictures with Santa</strong>&nbsp\;(M. Vasko office- 19 N. High)<em><span style="font-size: 10pt\;">*$10 donation suggested</span></em></span></li>\n	<li><span style="color: rgb(80\, 80\, 80)\; font-size: 10pt\;"><strong>Meet the Grinch</strong> (HER Realtors - 25 N. High)</span></li>\n	<li><span style="color: rgb(80\, 80\, 80)\; font-size: 10pt\;"><strong>Meet Rudolph the Red-Nosed Reindeer </strong>(Rise Realty - 36 N. High)</span></li>\n	<li><span style="color: rgb(80\, 80\, 80)\; font-size: 10pt\;"><strong>Ice Sculptures</strong>&nbsp\;(Stradley Place)</span></li>\n	<li><span style="color: rgb(80\, 80\, 80)\; font-size: 10pt\;"><strong>Popcorn Station</strong> (Stradley Place)</span></li>\n	<li><span style="color: rgb(80\, 80\, 80)\; font-size: 10pt\;"><strong>Christmas Music on S. High Street&nbsp\;</strong>(courtesy of Councilman Mike Walker)</span></li>\n	<li><span style="color: rgb(80\, 80\, 80)\; font-size: 10pt\;"><strong>Craft Bazaar</strong>&nbsp\;(Community Center) *2017 vendor space is filled</span></li>\n	<li><span style="color: rgb(80\, 80\, 80)\; font-size: 10pt\;"><strong>Train Display</strong>&nbsp\;(Community Center)</span></li>\n	<li><span style="color: rgb(80\, 80\, 80)\; font-size: 10pt\;"><strong>Canal Winchester Area Historical Society&#39\;s Prentiss School and Railroad Depot will be open to visitors each night</strong>. (N. High)</span></li>\n</ul>\n\n<div><span style="color: rgb(154\, 134\, 72)\; font-weight: normal\;"><span style="color: rgb(147\, 31\, 32)\; font-weight: bold\;">1-Night Only:</span></span></div>\n\n<div>\n<ul style="font-size: 14.08px\;">\n	<li><span style="font-weight: normal\;"><span style="font-size: 10pt\; font-weight: 700\;"><strong style="color: rgb(130\, 116\, 67)\; font-size: 13.33px\;"><span style="color: rgb(147\, 31\, 32)\; font-size: 10pt\; font-style: italic\;">*Friday&nbsp\; -&nbsp\;</span></strong><span style="color: rgb(80\, 80\, 80)\;"><a class="Hyperlink" href="https://cwlightsparade.wixsite.com/cwlp" target="_blank">Brockstrong Holiday Lights Parade</a>&nbsp\;</span></span><span style="color: rgb(80\, 80\, 80)\;">with Santa&nbsp\;(Begins at 5:30 p.m. with Santa arriving downtown at 6:00 p.m.)<span style="font-size: 10pt\;"><em><span>&nbsp\;</span><a class="Hyperlink" href="https://oh-canalwinchester.civicplus.com/Admin/DocumentCenter/Document/View/1051" target="_blank">click here for parade route</a></em></span></span></span></li>\n	<li><span style="font-weight: normal\;"><strong style="font-size: 10pt\;"><span><strong style="color: rgb(130\, 116\, 67)\; font-size: 10pt\;"><span style="color: rgb(147\, 31\, 32)\; font-size: 10pt\;">*</span><em><span style="color: rgb(147\, 31\, 32)\; font-size: 10pt\;">Friday -&nbsp\;</span></em></strong><span style="color: rgb(80\, 80\, 80)\;">Christmas Carols by CWHS Choir</span></span><span style="color: rgb(80\, 80\, 80)\;">&nbsp\;<em>&nbsp\;</em></span></strong><span style="color: rgb(80\, 80\, 80)\; font-size: 10pt\;">(Stradley Place)</span></span></li>\n	<li><span style="font-weight: normal\;"><span style="color: rgb(130\, 116\, 67)\; font-size: 10pt\;"><strong><span style="color: rgb(147\, 31\, 32)\; font-size: 10pt\; font-style: italic\;">*Saturday -&nbsp\;</span></strong></span><span style="color: rgb(80\, 80\, 80)\; font-size: 10pt\; font-style: italic\;"><strong>Santa Procession&nbsp\;</strong>(Begins at 4:30 p.m. with Santa arriving downtown at 5:00 p.m.)&nbsp\;<a class="Hyperlink" href="https://oh-canalwinchester.civicplus.com/Admin/DocumentCenter/Document/View/1051" style="font-weight: inherit\;" target="_blank">click here for parade route</a></span></span></li>\n	<li><span style="font-weight: normal\;"><strong style="font-size: 10pt\;"><span style="font-size: 10pt\;"><strong style="color: rgb(130\, 116\, 67)\; font-size: 10pt\;"><span style="color: rgb(147\, 31\, 32)\; font-size: 10pt\;">*<em>Saturday -&nbsp\;</em></span></strong><span style="color: rgb(80\, 80\, 80)\;">Winchester Chimes Holiday Performance</span></span><span style="color: rgb(80\, 80\, 80)\;">&nbsp\;</span></strong><span style="color: rgb(80\, 80\, 80)\; font-size: 10pt\;">(Prentiss School and Railroad Depot - N. High)</span></span></li>\n	<li><span style="font-weight: normal\;"><strong style="font-size: 10pt\;"><span style="font-size: 10pt\;"><strong style="color: rgb(130\, 116\, 67)\; font-size: 10pt\;"><span style="color: rgb(147\, 31\, 32)\; font-size: 10pt\;">*</span><em style="color: rgb(147\, 31\, 32)\;">Saturday -&nbsp\;</em></strong><span style="color: rgb(80\, 80\, 80)\;">Visit Santa&#39\;s Reindeer&nbsp\;</span></span></strong><span style="color: rgb(80\, 80\, 80)\; font-size: 10pt\;">&nbsp\;(grassy knoll behind Stradley Place)</span></span></li>\n</ul>\n</div>\n<br />\n<br />\n<span style="font-size: 14px\;"><span style="font-family: times new roman\;">&nbsp\;&nbsp\;&nbsp\;<br />\n<span>Anyone who would like more information about on how to enter the gingerbread house contest should contact Amanda Lemke at</span></span></span>(614) 837-8276.<span style="font-size: 14px\;"><span style="font-family: times new roman\;"><span>&nbsp\; If you would like more information about the Craft/Gift Expo\, please contact Destination: Canal Winchester info@destinationcw.org or (614) 270-5053.&nbsp\;</span><br />\n&nbsp\;</span></span>
LOCATION:Historic Downtown C.W.(South High Street) and the Frances Stuebe Community Center
UID:e.9051.4241
SEQUENCE:3
DTSTAMP:20260422T081023Z
URL:https://business.destinationcw.org/events/details/2017-christmas-in-the-village-night-1-4241
END:VEVENT

END:VCALENDAR
